BEGIN:VCALENDAR
VERSION:2.0
PRODID:-//Green Needham - ECPv6.14.0//NONSGML v1.0//EN
CALSCALE:GREGORIAN
METHOD:PUBLISH
X-ORIGINAL-URL:https://www.greenneedham.org/blog
X-WR-CALDESC:Events for Green Needham
REFRESH-INTERVAL;VALUE=DURATION:PT1H
X-Robots-Tag:noindex
X-PUBLISHED-TTL:PT1H
BEGIN:VTIMEZONE
TZID:America/New_York
BEGIN:DAYLIGHT
TZOFFSETFROM:-0500
TZOFFSETTO:-0400
TZNAME:EDT
DTSTART:20230312T070000
END:DAYLIGHT
BEGIN:STANDARD
TZOFFSETFROM:-0400
TZOFFSETTO:-0500
TZNAME:EST
DTSTART:20231105T060000
END:STANDARD
END:VTIMEZONE
BEGIN:VEVENT
DTSTART;TZID=America/New_York:20230520T090000
DTEND;TZID=America/New_York:20230520T130000
DTSTAMP:20260422T061034
CREATED:20230517T185210Z
LAST-MODIFIED:20230517T185210Z
UID:16858-1684573200-1684587600@www.greenneedham.org
SUMMARY:Help Needed at the Needham Community Farm's Seedling Sale/Fundraiser
DESCRIPTION:Please sign up to help the Needham Community Farm with their Spring Seedling Sale/Fundraiser!  Help needed for several tasks.
URL:https://www.greenneedham.org/blog/event/help-needed-at-the-needham-community-farms-seedling-sale-fundraiser/
CATEGORIES:Community Farm
ATTACH;FMTTYPE=image/png:https://www.greenneedham.org/blog/wp-content/uploads/2018/09/needham-community-farm-pic.png
ORGANIZER;CN="Needham Community Farm":MAILTO:info@needhamfarm.org
END:VEVENT
END:VCALENDAR