BEGIN:VCALENDAR
VERSION:2.0
PRODID:-//Green Needham - ECPv6.14.0//NONSGML v1.0//EN
CALSCALE:GREGORIAN
METHOD:PUBLISH
X-ORIGINAL-URL:https://www.greenneedham.org/blog
X-WR-CALDESC:Events for Green Needham
REFRESH-INTERVAL;VALUE=DURATION:PT1H
X-Robots-Tag:noindex
X-PUBLISHED-TTL:PT1H
BEGIN:VTIMEZONE
TZID:America/New_York
BEGIN:DAYLIGHT
TZOFFSETFROM:-0500
TZOFFSETTO:-0400
TZNAME:EDT
DTSTART:20250309T070000
END:DAYLIGHT
BEGIN:STANDARD
TZOFFSETFROM:-0400
TZOFFSETTO:-0500
TZNAME:EST
DTSTART:20251102T060000
END:STANDARD
END:VTIMEZONE
BEGIN:VEVENT
DTSTART;TZID=America/New_York:20250430T190000
DTEND;TZID=America/New_York:20250430T203000
DTSTAMP:20260420T160646
CREATED:20250424T132349Z
LAST-MODIFIED:20250424T132349Z
UID:19166-1746039600-1746045000@www.greenneedham.org
SUMMARY:Sustainable Wellesley Sponsored Discussion:  Healthy Future for Our Children
DESCRIPTION:Pediatrician and Chief Science Officer at the Center on the Developing Child at Harvard University Dr. Lindsey Burghardt discusses Climate\, Kids and Health (Physical & Mental) with Wellesley parents/caregivers on Wednesday\, April 30th at the Hunnewell School at 7pm.  Confirm your seat here.  \nThe recent fires in LA (even some in Milton last year) have extreme weather issues on parent’s minds. Dr. Burghardt will cover the connection between allergies\, asthma\, brain development\, heat\, pregnancy\, low birth weight and preterm birth as well as vector borne diseases with our warming climate. She and others will offer suggestions on ways to mitigate these issues. \nIndividually and collectively\, there are a variety of actions we can do to create a healthier future for our children. Make time for this important discussion. \nRSVP as there is limited seating.
URL:https://www.greenneedham.org/blog/event/sustainable-wellesley-sponsored-discussion-healthy-future-for-our-children/
LOCATION:Hunnewell Elementary School\, 28 Cameron St\, Wellesley\, MA\, 02482
CATEGORIES:Health
ATTACH;FMTTYPE=image/jpeg:https://www.greenneedham.org/blog/wp-content/uploads/2025/04/Healthy-Future-For-Our-Children.jpg
END:VEVENT
END:VCALENDAR