BEGIN:VCALENDAR
VERSION:2.0
PRODID:-//Green Needham - ECPv6.14.0//NONSGML v1.0//EN
CALSCALE:GREGORIAN
METHOD:PUBLISH
X-WR-CALNAME:Green Needham
X-ORIGINAL-URL:https://www.greenneedham.org/blog
X-WR-CALDESC:Events for Green Needham
REFRESH-INTERVAL;VALUE=DURATION:PT1H
X-Robots-Tag:noindex
X-PUBLISHED-TTL:PT1H
BEGIN:VTIMEZONE
TZID:America/New_York
BEGIN:DAYLIGHT
TZOFFSETFROM:-0500
TZOFFSETTO:-0400
TZNAME:EDT
DTSTART:20190310T070000
END:DAYLIGHT
BEGIN:STANDARD
TZOFFSETFROM:-0400
TZOFFSETTO:-0500
TZNAME:EST
DTSTART:20191103T060000
END:STANDARD
END:VTIMEZONE
BEGIN:VEVENT
DTSTART;TZID=America/New_York:20191003T080000
DTEND;TZID=America/New_York:20191003T100000
DTSTAMP:20260419T101314
CREATED:20190920T234346Z
LAST-MODIFIED:20190920T234346Z
UID:11318-1570089600-1570096800@www.greenneedham.org
SUMMARY:Funding & Fixing MA's  Transportation Mess
DESCRIPTION:Public transportation and roadway conditions have reached a crisis level across the state but especially along and inside the I-95 corridor. It’s hurting our ability to be compete\, impacting our way of life and contributing to an impending climate catastrophe.  But finally\, it appears Beacon Hill may be open to doing something about it\, with both House Speaker Robert DeLeo and Senate President Karen Spilka recently asking the business community for input on how to pay for desperately-needed investments in transportation. \nAt this presentation\, we’ll explore the challenges and some of the funding options that may be considered as soon as this fall. And after listening to our panel of experts we’ll ask attendees to help advise our chamber’s Board of Directors on which proposals we should ask our legislators to support. \nRegister Online
URL:https://www.greenneedham.org/blog/event/funding-fixing-mas-transportation-mess/
LOCATION:Wells Ave Auditorium\, 88 Welles Ave.\, Newton\, MA\, 02459
CATEGORIES:Newton-Needham Chamber
ATTACH;FMTTYPE=image/jpeg:https://www.greenneedham.org/blog/wp-content/uploads/2017/12/NN-Chamber-Member.jpg
ORGANIZER;CN="Charles River Regional Chamber":MAILTO:info@charlesriverchamber.com
END:VEVENT
BEGIN:VEVENT
DTSTART;TZID=America/New_York:20191006T120000
DTEND;TZID=America/New_York:20191006T160000
DTSTAMP:20260419T101314
CREATED:20190830T155518Z
LAST-MODIFIED:20190920T201950Z
UID:11049-1570363200-1570377600@www.greenneedham.org
SUMMARY:Harvest Fair
DESCRIPTION:Have Fun And Support Local Businesses At Needham’s Annual Harvest Fair!  Green Needham will be there with our partners for Solarize Plus Needham. \nSpeak to one of our Solar Ambassadors about Solarize Plus Needham\, and whether your roof is a good candidate for solar. \nStop by and see us. \nGet more information about all the activities at the Fair!
URL:https://www.greenneedham.org/blog/event/harvest-fair/
LOCATION:Needham Town Hall Green\, GPA & HIghland Ave\, Needham\, MA\, 02492\, United States
CATEGORIES:Newton-Needham Chamber,Solarize Plus
END:VEVENT
END:VCALENDAR