BEGIN:VCALENDAR
VERSION:2.0
PRODID:-//Green Needham - ECPv6.14.0//NONSGML v1.0//EN
CALSCALE:GREGORIAN
METHOD:PUBLISH
X-WR-CALNAME:Green Needham
X-ORIGINAL-URL:https://www.greenneedham.org/blog
X-WR-CALDESC:Events for Green Needham
REFRESH-INTERVAL;VALUE=DURATION:PT1H
X-Robots-Tag:noindex
X-PUBLISHED-TTL:PT1H
BEGIN:VTIMEZONE
TZID:America/New_York
BEGIN:DAYLIGHT
TZOFFSETFROM:-0500
TZOFFSETTO:-0400
TZNAME:EDT
DTSTART:20130310T070000
END:DAYLIGHT
BEGIN:STANDARD
TZOFFSETFROM:-0400
TZOFFSETTO:-0500
TZNAME:EST
DTSTART:20131103T060000
END:STANDARD
END:VTIMEZONE
BEGIN:VEVENT
DTSTART;TZID=America/New_York:20130421T150000
DTEND;TZID=America/New_York:20130421T173000
DTSTAMP:20260422T044044
CREATED:20130421T142619Z
LAST-MODIFIED:20150326T001354Z
UID:3207-1366556400-1366565400@www.greenneedham.org
SUMMARY:Near Net Zero in Needham - Solar 101
DESCRIPTION:Come see THE MOST ENERGY EFFICIENT HOME BUILT IN NEEDHAM (HERS12 RATED)!  This new home exemplifies the amenities of upscale construction & saves you money on utility costs. Solar PV system on the south facing rear roof is projected to produce more electricity than required to heat & cool the home. \nSales representatives from Kingsbury Homes Limited and the Sunlight Solar Energy Team will be available to discuss the benefits and incentives of going solar and also how to build an energy efficient home that is almost Net Zero! \nFresh catered food from your very local Volante Farms.  Come learn and eat – it’ll be fun!   Click here view details on Needham Patch.
URL:https://www.greenneedham.org/blog/event/near-net-zero-in-needham-solar-101/
LOCATION:Near Net Zero Home\, 1362 Great Plain Ave.\, Needham\, MA\, 02492\, United States
CATEGORIES:Home,Renewable Energy,Solar
ORGANIZER;CN="Kimberly Le":MAILTO:Kimberly.Le@.­sunli­ghtsolar.­com
END:VEVENT
END:VCALENDAR