BEGIN:VCALENDAR
VERSION:2.0
PRODID:-//Green Needham - ECPv6.14.0//NONSGML v1.0//EN
CALSCALE:GREGORIAN
METHOD:PUBLISH
X-ORIGINAL-URL:https://www.greenneedham.org/blog
X-WR-CALDESC:Events for Green Needham
REFRESH-INTERVAL;VALUE=DURATION:PT1H
X-Robots-Tag:noindex
X-PUBLISHED-TTL:PT1H
BEGIN:VTIMEZONE
TZID:America/New_York
BEGIN:DAYLIGHT
TZOFFSETFROM:-0500
TZOFFSETTO:-0400
TZNAME:EDT
DTSTART:20140309T070000
END:DAYLIGHT
BEGIN:STANDARD
TZOFFSETFROM:-0400
TZOFFSETTO:-0500
TZNAME:EST
DTSTART:20141102T060000
END:STANDARD
END:VTIMEZONE
BEGIN:VEVENT
DTSTART;TZID=America/New_York:20140306T190000
DTEND;TZID=America/New_York:20140306T203000
DTSTAMP:20260419T124615
CREATED:20140125T164920Z
LAST-MODIFIED:20140125T173044Z
UID:3593-1394132400-1394137800@www.greenneedham.org
SUMMARY:A Zero Energy Home
DESCRIPTION:Join us to learn about the design and construction of a zero net energy home built in Westwood two years ago. The owner/designer/builder will present a slide show illustrating the important design considerations\, construction details\, and the finished home. The presentation will also cover the cost of the construction\, how the home has performed over the last two years\, what it is like to live in it\, and what mistakes were made that could be avoided – and answer the question of whether solar energy really works. (Hint: the electric company owes him money!)  Note: a Saturday morning tour of the home is included in the course fee. \nPeter Kane\, Instructor \nOne Thursday @ NHS Room 402 7-8:30pm & One Saturday @ 149 Ellis St.\, Westwood\, MA 02090 10-11am \n 
URL:https://www.greenneedham.org/blog/event/a-zero-energy-home/
CATEGORIES:Energy Efficiency,Renewable Energy,Solar
ORGANIZER;CN="Needham Community Education":MAILTO:Amy_Goldman@needham.k12.ma.us
END:VEVENT
END:VCALENDAR