BEGIN:VCALENDAR
VERSION:2.0
PRODID:-//Green Needham - ECPv6.14.0//NONSGML v1.0//EN
CALSCALE:GREGORIAN
METHOD:PUBLISH
X-ORIGINAL-URL:https://www.greenneedham.org/blog
X-WR-CALDESC:Events for Green Needham
REFRESH-INTERVAL;VALUE=DURATION:PT1H
X-Robots-Tag:noindex
X-PUBLISHED-TTL:PT1H
BEGIN:VTIMEZONE
TZID:America/New_York
BEGIN:DAYLIGHT
TZOFFSETFROM:-0500
TZOFFSETTO:-0400
TZNAME:EDT
DTSTART:20110313T070000
END:DAYLIGHT
BEGIN:STANDARD
TZOFFSETFROM:-0400
TZOFFSETTO:-0500
TZNAME:EST
DTSTART:20111106T060000
END:STANDARD
END:VTIMEZONE
BEGIN:VEVENT
DTSTART;TZID=America/New_York:20110820T100000
DTEND;TZID=America/New_York:20110820T120000
DTSTAMP:20260419T140741
CREATED:20110812T032936Z
LAST-MODIFIED:20110812T034108Z
UID:1501-1313834400-1313841600@www.greenneedham.org
SUMMARY:Open House - Needham Community Farm
DESCRIPTION:OPEN HOUSE – Needham Community Farm at 0 Pine Street \nSaturday\, August 20\, 2011\n 10:00am – Noon \nLearn what the community farm has to offer residents\, check out the beautiful gardens our summer \n class participants are growing\, and meet the  farm volunteers. \nALL ARE WELCOME!
URL:https://www.greenneedham.org/blog/event/open-house-needham-community-farm/
LOCATION:Needham Community Farm\, 0 Pine Street\, Needham \, MA\, 02492\, United States
CATEGORIES:Calendar,Community Farm,Uncategorized
END:VEVENT
END:VCALENDAR