BEGIN:VCALENDAR
VERSION:2.0
PRODID:-//Green Needham - ECPv6.14.0//NONSGML v1.0//EN
CALSCALE:GREGORIAN
METHOD:PUBLISH
X-WR-CALNAME:Green Needham
X-ORIGINAL-URL:https://www.greenneedham.org/blog
X-WR-CALDESC:Events for Green Needham
REFRESH-INTERVAL;VALUE=DURATION:PT1H
X-Robots-Tag:noindex
X-PUBLISHED-TTL:PT1H
BEGIN:VTIMEZONE
TZID:America/New_York
BEGIN:DAYLIGHT
TZOFFSETFROM:-0500
TZOFFSETTO:-0400
TZNAME:EDT
DTSTART:20240310T070000
END:DAYLIGHT
BEGIN:STANDARD
TZOFFSETFROM:-0400
TZOFFSETTO:-0500
TZNAME:EST
DTSTART:20241103T060000
END:STANDARD
END:VTIMEZONE
BEGIN:VEVENT
DTSTART;TZID=America/New_York:20240422T130000
DTEND;TZID=America/New_York:20240422T150000
DTSTAMP:20260419T103520
CREATED:20231230T180319Z
LAST-MODIFIED:20240420T152843Z
UID:17969-1713790800-1713798000@www.greenneedham.org
SUMMARY:Earth Day Presentation - Environmental Actions Individuals can Take
DESCRIPTION:Join Green Needham’s Energy Coach (formerly “Ask the Expert”) Ed Quinlan at the Center at the Heights on Monday\, April 22nd for a presentation on how individuals can live more sustainably.  Topics will focus on energy infrastructure in your home\, including heat pumps\, solar panels\, Electric Vehicles (EVs)\, and weatherization to improve your home’s energy efficiency. \nTim Bulger will also do a presentation on E-bikes. \nAnd Green Needham’s Mass Save partner\, HomeWorks Energy\, will also be attending\, and will  be signing up residents for no-cost home energy assessments.
URL:https://www.greenneedham.org/blog/event/earth-day-presentation-environmental-actions-individuals-can-take/
LOCATION:The Center at the Heights\, 300 Hillside Ave\, Needham\, MA\, 02494\, United States
CATEGORIES:Uncategorized
ATTACH;FMTTYPE=image/png:https://www.greenneedham.org/blog/wp-content/uploads/2023/07/green-needham-logo-more-square.png
ORGANIZER;CN="Center at the Heights":MAILTO:akelley@needhamma.gov
END:VEVENT
END:VCALENDAR