BEGIN:VCALENDAR
VERSION:2.0
PRODID:-//Green Needham - ECPv6.14.0//NONSGML v1.0//EN
CALSCALE:GREGORIAN
METHOD:PUBLISH
X-WR-CALNAME:Green Needham
X-ORIGINAL-URL:https://www.greenneedham.org/blog
X-WR-CALDESC:Events for Green Needham
REFRESH-INTERVAL;VALUE=DURATION:PT1H
X-Robots-Tag:noindex
X-PUBLISHED-TTL:PT1H
BEGIN:VTIMEZONE
TZID:America/New_York
BEGIN:DAYLIGHT
TZOFFSETFROM:-0500
TZOFFSETTO:-0400
TZNAME:EDT
DTSTART:20230312T070000
END:DAYLIGHT
BEGIN:STANDARD
TZOFFSETFROM:-0400
TZOFFSETTO:-0500
TZNAME:EST
DTSTART:20231105T060000
END:STANDARD
END:VTIMEZONE
BEGIN:VEVENT
DTSTART;TZID=America/New_York:20231010T183000
DTEND;TZID=America/New_York:20231010T193000
DTSTAMP:20260419T120418
CREATED:20231006T163723Z
LAST-MODIFIED:20231006T163723Z
UID:17677-1696962600-1696966200@www.greenneedham.org
SUMMARY:Public Hearing on October 10\, 2023 to Support Adoption of the Specialized Code
DESCRIPTION:The Select Board will hold a public hearing on adoption of the Specialized Code during its meeting at Town Hall on Tuesday\, October 10\, 2023\, at approximately 6:30 pm. Please plan to attend and show your support for this important change to our building code. If you are not able to attend in person\, you can join via Zoom – see below: \nZoom Link:\nhttps://us02web.zoom.us/j/89068374046?pwd=UzBqaWIrNWZrSWdCQkpaZkJyd1RHQT09\nWebinar ID: 890 6837 4046\nPasscode: 221095
URL:https://www.greenneedham.org/blog/event/public-hearing-on-october-10-2023-to-support-adoption-of-the-specialized-code/
LOCATION:Needham Town Hall\, 1471 Highland Ave.\, Needham\, MA\, 02492\, United States
CATEGORIES:Activism
ATTACH;FMTTYPE=image/jpeg:https://www.greenneedham.org/blog/wp-content/uploads/2023/08/solar-house-csm-B.jpg
END:VEVENT
END:VCALENDAR