BEGIN:VCALENDAR
VERSION:2.0
PRODID:-//Green Needham - ECPv6.14.0//NONSGML v1.0//EN
CALSCALE:GREGORIAN
METHOD:PUBLISH
X-WR-CALNAME:Green Needham
X-ORIGINAL-URL:https://www.greenneedham.org/blog
X-WR-CALDESC:Events for Green Needham
REFRESH-INTERVAL;VALUE=DURATION:PT1H
X-Robots-Tag:noindex
X-PUBLISHED-TTL:PT1H
BEGIN:VTIMEZONE
TZID:America/New_York
BEGIN:DAYLIGHT
TZOFFSETFROM:-0500
TZOFFSETTO:-0400
TZNAME:EDT
DTSTART:20230312T070000
END:DAYLIGHT
BEGIN:STANDARD
TZOFFSETFROM:-0400
TZOFFSETTO:-0500
TZNAME:EST
DTSTART:20231105T060000
END:STANDARD
END:VTIMEZONE
BEGIN:VEVENT
DTSTART;TZID=America/New_York:20231129T190000
DTEND;TZID=America/New_York:20231129T210000
DTSTAMP:20260419T132545
CREATED:20231119T014358Z
LAST-MODIFIED:20231120T211454Z
UID:17827-1701284400-1701291600@www.greenneedham.org
SUMMARY:Needham Housing Coalition (NHC) Co-hosts Open Meeting at the Library
DESCRIPTION:The Needham Housing Coalition (NHC)\, on behalf of the Needham community\, was selected to be part of the Municipal Engagement Initiative program of the Citizens’ Housing and Planning Association (CHAPA)\, with the support of the Town of Needham. Together\, we want to advocate for more housing choice and help Needham build community awareness. \nNeedham Town Meeting members will be voting on two critical housing issues in 2024: \n\nZoning and funding for the Needham Housing Authority redevelopment\nRezoning to bring Needham into compliance with the MBTA Communities Law\n\nNow is an excellent time for us to get together to learn and work toward supporting good decisions for our town. This gathering is seeking to expand the outreach and engagement process and bring more people to the table. \nAt the meeting on November 29\, we will briefly introduce CHAPA and NHC\, provide background information about housing in Needham\, update you on the current housing initiatives – and then open it up for discussion to get your thoughts and ideas on how we can advocate for more housing options in Needham. This is an in-person event\, but there will be a Zoom option.  Click here to register.  Click here to read the flyer.
URL:https://www.greenneedham.org/blog/event/needham-housing-coalition-nhc-co-hosts-open-meeting-at-the-library/
LOCATION:Needham Public Library\, 1139 Highland Ave\, Needham \, 02494
CATEGORIES:Uncategorized
ATTACH;FMTTYPE=image/png:https://www.greenneedham.org/blog/wp-content/uploads/2023/11/Needham-Housing-Coalition-Logo.png
ORGANIZER;CN="needham housing coalition":MAILTO:needhamhousingcoalition@gmail.com
END:VEVENT
BEGIN:VEVENT
DTSTART;TZID=America/New_York:20231129T190000
DTEND;TZID=America/New_York:20231129T210000
DTSTAMP:20260419T132545
CREATED:20231127T010005Z
LAST-MODIFIED:20231124T140814Z
UID:17846-1701284400-1701291600@www.greenneedham.org
SUMMARY:Single-use Plastic Reduction Team and Landscaping Team Planning Meetings
DESCRIPTION:Green Needham’s Single-use Plastic Reduction team and our Landscaping Equipment team are launching new initiatives to create environmentally focused bylaws for the town to consider at Town Meeting next May. \nA planning meeting is taking place on Wednesday\, November 29th via zoom at 7:00PM for Single-use Plastic Reduction\, and at 8:00PM for a Gas-powered Leaf Blower Ban. If you would like to be part of the effort to make Needham more sustainable\, contact Kathy Raiz for the zoom information.
URL:https://www.greenneedham.org/blog/event/single-use-plastic-reduction-team-and-landscaping-team-planning-meetings/
LOCATION:Zoom Webinar\, Online
CATEGORIES:Landsaping,Plastic Waste Reduction
ATTACH;FMTTYPE=image/png:https://www.greenneedham.org/blog/wp-content/uploads/2023/05/plastic-bag-ban-coalition.png
END:VEVENT
END:VCALENDAR