BEGIN:VCALENDAR
VERSION:2.0
PRODID:-//Green Needham - ECPv6.14.0//NONSGML v1.0//EN
CALSCALE:GREGORIAN
METHOD:PUBLISH
X-WR-CALNAME:Green Needham
X-ORIGINAL-URL:https://www.greenneedham.org/blog
X-WR-CALDESC:Events for Green Needham
REFRESH-INTERVAL;VALUE=DURATION:PT1H
X-Robots-Tag:noindex
X-PUBLISHED-TTL:PT1H
BEGIN:VTIMEZONE
TZID:America/New_York
BEGIN:DAYLIGHT
TZOFFSETFROM:-0500
TZOFFSETTO:-0400
TZNAME:EDT
DTSTART:20240310T070000
END:DAYLIGHT
BEGIN:STANDARD
TZOFFSETFROM:-0400
TZOFFSETTO:-0500
TZNAME:EST
DTSTART:20241103T060000
END:STANDARD
END:VTIMEZONE
BEGIN:VEVENT
DTSTART;TZID=America/New_York:20240109T180000
DTEND;TZID=America/New_York:20240109T193000
DTSTAMP:20260419T162633
CREATED:20240107T221336Z
LAST-MODIFIED:20240107T221336Z
UID:18031-1704823200-1704828600@www.greenneedham.org
SUMMARY:Town Holds Public Hearing on Needham Climate Action Roadmap
DESCRIPTION:The Town has announced a public hearing to gather feedback on the Plan during their Tuesday\, January 9 meeting (in person and via Zoom). The text below appeared recently in the Town newsletter. \n“The Select Board will be holding a public hearing at its regular meeting on Tuesday\, January 9th on the Town’s Climate Action Roadmap\, a comprehensive plan that outlines Needham’s commitment to achieving Net Zero greenhouse gas emissions by 2050\, as mandated by the Commonwealth of Massachusetts and directed by the Needham Select Board. The roadmap is the result of extensive research\, community engagement\, and collaboration with various stakeholders and outlines specific targets\, milestones\, and actionable strategies across all sectors of our community. \nThe Board is interested in hearing the opinions of residents from a variety of backgrounds and welcomes any resident or interested party to provide testimony.  The hearing will be held at 6:05 pm on Tuesday\, January 9th at Town Hall in the Select Board Chambers and via Zoom (Webinar ID 890 6837 4046). \nHow to Provide Feedback at a Public Hearing \nYou may attend the hearing in person to share your comments or\, if you’re attending the meeting by Zoom\, please raise your virtual hand to ask to speak. You may also email your comments in advance of the hearing at selectboard@needhamma.gov. Questions about this can be directed to the Town Manager’s office at otm@needhamma.gov.”
URL:https://www.greenneedham.org/blog/event/town-holds-public-hearing-on-needham-climate-action-roadmap/
LOCATION:Needham Town Hall Select Board Chambers\, 1471 Highland Ave.\, Needham\, MA\, 02492
CATEGORIES:Uncategorized
ATTACH;FMTTYPE=image/png:https://www.greenneedham.org/blog/wp-content/uploads/2023/11/Sustainable-Needham-resized.png
END:VEVENT
END:VCALENDAR