BEGIN:VCALENDAR
VERSION:2.0
PRODID:-//Green Needham - ECPv6.14.0//NONSGML v1.0//EN
CALSCALE:GREGORIAN
METHOD:PUBLISH
X-WR-CALNAME:Green Needham
X-ORIGINAL-URL:https://www.greenneedham.org/blog
X-WR-CALDESC:Events for Green Needham
REFRESH-INTERVAL;VALUE=DURATION:PT1H
X-Robots-Tag:noindex
X-PUBLISHED-TTL:PT1H
BEGIN:VTIMEZONE
TZID:America/New_York
BEGIN:DAYLIGHT
TZOFFSETFROM:-0500
TZOFFSETTO:-0400
TZNAME:EDT
DTSTART:20240310T070000
END:DAYLIGHT
BEGIN:STANDARD
TZOFFSETFROM:-0400
TZOFFSETTO:-0500
TZNAME:EST
DTSTART:20241103T060000
END:STANDARD
END:VTIMEZONE
BEGIN:VEVENT
DTSTART;TZID=America/New_York:20240314T140000
DTEND;TZID=America/New_York:20240314T153000
DTSTAMP:20260419T192101
CREATED:20240302T184616Z
LAST-MODIFIED:20240302T184616Z
UID:18198-1710424800-1710430200@www.greenneedham.org
SUMMARY:Public Hearing on Needham Municipal Aggregation March 14th
DESCRIPTION:Dept. of Public Utilities to Hold Public Hearing on Needham Municipal Aggregation March 14th at 2pm \nOn February 2\, 2024\, the Town of Needham filed a request with the Massachusetts Department of Public Utilities for approval of a municipal aggregation plan pursuant to Mass. General Law 164\, § 134. The Department will conduct a virtual public hearing to receive comments on the Town’s filing via Zoom on Thursday\, March 14th at 2 pm.  Click here for additional information on the hearing as well as the link to join by Zoom. \nFor additional information on Needham Power Choice and Needham’s municipal energy aggregation program\, please visit the Needham Power Choice page on the Town of Needham’s website.
URL:https://www.greenneedham.org/blog/event/public-hearing-on-needham-municipal-aggregation-march-14th/
LOCATION:Zoom Webinar\, Online
CATEGORIES:State
ATTACH;FMTTYPE=image/png:https://www.greenneedham.org/blog/wp-content/uploads/2023/11/Needham-Power-Choice.png
END:VEVENT
END:VCALENDAR