BEGIN:VCALENDAR
VERSION:2.0
PRODID:-//Green Needham - ECPv6.14.0//NONSGML v1.0//EN
CALSCALE:GREGORIAN
METHOD:PUBLISH
X-WR-CALNAME:Green Needham
X-ORIGINAL-URL:https://www.greenneedham.org/blog
X-WR-CALDESC:Events for Green Needham
REFRESH-INTERVAL;VALUE=DURATION:PT1H
X-Robots-Tag:noindex
X-PUBLISHED-TTL:PT1H
BEGIN:VTIMEZONE
TZID:America/New_York
BEGIN:DAYLIGHT
TZOFFSETFROM:-0500
TZOFFSETTO:-0400
TZNAME:EDT
DTSTART:20240310T070000
END:DAYLIGHT
BEGIN:STANDARD
TZOFFSETFROM:-0400
TZOFFSETTO:-0500
TZNAME:EST
DTSTART:20241103T060000
END:STANDARD
END:VTIMEZONE
BEGIN:VEVENT
DTSTART;TZID=America/New_York:20240801T180000
DTEND;TZID=America/New_York:20240801T193000
DTSTAMP:20260420T021804
CREATED:20240715T162108Z
LAST-MODIFIED:20240715T162108Z
UID:18486-1722535200-1722540600@www.greenneedham.org
SUMMARY:Needham Housing Coalition Hosts Walking Tour(s) of MBTA Rezoning District
DESCRIPTION:The Needham Housing Coalition Hosts Three Walking Tour(s) of MBTA Rezoning District on the following evenings: \nTuesday\, July 16th from 6:00-7:30 pm   (Garden & Chestnut Sts.)  – PAST EVENT \nThursday\, August 1st from 6:00-7:30 pm   (Needham Center & Highland Ave.) \nWednesday\, August 7th from 6:00-7:30 pm   (Needham Heights) \nClick here to register for the event.  Click here to view the event flyer. \nIf you have any questions\, contact: needhamhousingcoalition@gmail.com \n 
URL:https://www.greenneedham.org/blog/event/needham-housing-coalition-hosts-walking-tours-of-mbta-rezoning-district-2/
LOCATION:Needham Center & Highland Ave.
CATEGORIES:Uncategorized
ATTACH;FMTTYPE=image/png:https://www.greenneedham.org/blog/wp-content/uploads/2023/11/Needham-Housing-Coalition-Logo.png
ORGANIZER;CN="needham housing coalition":MAILTO:needhamhousingcoalition@gmail.com
END:VEVENT
BEGIN:VEVENT
DTSTART;TZID=America/New_York:20240807T180000
DTEND;TZID=America/New_York:20240807T193000
DTSTAMP:20260420T021804
CREATED:20240715T162637Z
LAST-MODIFIED:20240715T162637Z
UID:18494-1723053600-1723059000@www.greenneedham.org
SUMMARY:Needham Housing Coalition Hosts Walking Tour(s) of MBTA Rezoning District
DESCRIPTION:The Needham Housing Coalition Hosts Three Walking Tour(s) of MBTA Rezoning District on the following evenings: \nTuesday\, July 16th from 6:00-7:30 pm   (Garden & Chestnut Sts.)  – PAST EVENT \nThursday\, August 1st from 6:00-7:30 pm   (Needham Center & Highland Ave.) – PAST EVENT \nWednesday\, August 7th from 6:00-7:30 pm   (Needham Heights) \nClick here to register for the event.  Click here to view the event flyer. \nIf you have any questions\, contact: needhamhousingcoalition@gmail.com \n 
URL:https://www.greenneedham.org/blog/event/needham-housing-coalition-hosts-walking-tours-of-mbta-rezoning-district-3/
LOCATION:Needham Heights\, Needham Heights
CATEGORIES:Uncategorized
ATTACH;FMTTYPE=image/png:https://www.greenneedham.org/blog/wp-content/uploads/2023/11/Needham-Housing-Coalition-Logo.png
ORGANIZER;CN="needham housing coalition":MAILTO:needhamhousingcoalition@gmail.com
END:VEVENT
BEGIN:VEVENT
DTSTART;TZID=America/New_York:20240821T193000
DTEND;TZID=America/New_York:20240821T203000
DTSTAMP:20260420T021804
CREATED:20240730T135042Z
LAST-MODIFIED:20240730T135042Z
UID:18524-1724268600-1724272200@www.greenneedham.org
SUMMARY:LWV/Needham hosts State Representative Primary Candidate Forum
DESCRIPTION:The League of Women Voter of Needham and Dover-Sherborn  host State Representative Primary Candidate Forum. \nIn-person forum with zoom attendees and live streamed on the Needham Channel. \nFour Democratic candidates are scheduled to participate.  There are no Republican primary candidates.  LWV will invite the Democratic and Independent nominees to a forum prior to the November 5th general election. \nRead more about the event on the LWV/Needham’s website. \nClick here to register as a Zoom participant.
URL:https://www.greenneedham.org/blog/event/lwv-needham-hosts-state-representative-primary-candidate-forum/
LOCATION:Powers Hall\, Needham Town Hall\, 1471 Highland Ave.\, Needham\, MA\, 02492\, United States
CATEGORIES:Legislative
ATTACH;FMTTYPE=image/png:https://www.greenneedham.org/blog/wp-content/uploads/2018/04/LWV-Needham-logo.png
END:VEVENT
END:VCALENDAR